BEGIN:VCALENDAR
VERSION:2.0
PRODID:spatie/icalendar-generator
DESCRIPTION:Events from Iyoga Transformation
X-WR-CALDESC:Events from Iyoga Transformation
REFRESH-INTERVAL;VALUE=DURATION:PT1440M
X-PUBLISHED-TTL:PT1440M
BEGIN:VTIMEZONE
TZID:Etc/GMT+0
BEGIN:STANDARD
DTSTART:20240612T080000Z
TZOFFSETFROM:+0000
TZOFFSETTO:+0000
END:STANDARD
END:VTIMEZONE
BEGIN:VTIMEZONE
TZID:UTC
BEGIN:STANDARD
DTSTART:20250728T210432Z
TZOFFSETFROM:+0000
TZOFFSETTO:+0000
END:STANDARD
END:VTIMEZONE
BEGIN:VEVENT
UID:1625-9
DTSTAMP:20260424T210432Z
SUMMARY:Fix the Body
LOCATION:Clairemont Studio  4027 Hatton St.  San Diego CA 92111
ORGANIZER;CN=gmedina:MAILTO:ndgns1@gmail.com
RRULE:FREQ=WEEKLY;UNTIL=20271031T000000Z
DTSTART;TZID=Etc/GMT+0:20250309T080000
DTEND;TZID=Etc/GMT+0:20250309T090000
X-ALT-DESC;FMTTYPE=TEXT/HTML:
CATEGORIES:General
URL;VALUE=URI:https://iyogatransformation.com/mc-events/fix-the-body/?mc_id
 =1625
METHOD:PUBLISH
END:VEVENT
END:VCALENDAR